BEGIN:VCALENDAR
VERSION:2.0
PRODID:-//Stowey Church - ECPv6.15.13//NONSGML v1.0//EN
CALSCALE:GREGORIAN
METHOD:PUBLISH
X-ORIGINAL-URL:https://www.stoweychurch.com
X-WR-CALDESC:Events for Stowey Church
REFRESH-INTERVAL;VALUE=DURATION:PT1H
X-Robots-Tag:noindex
X-PUBLISHED-TTL:PT1H
BEGIN:VTIMEZONE
TZID:Europe/London
BEGIN:DAYLIGHT
TZOFFSETFROM:+0000
TZOFFSETTO:+0100
TZNAME:BST
DTSTART:20240331T010000
END:DAYLIGHT
BEGIN:STANDARD
TZOFFSETFROM:+0100
TZOFFSETTO:+0000
TZNAME:GMT
DTSTART:20241027T010000
END:STANDARD
BEGIN:DAYLIGHT
TZOFFSETFROM:+0000
TZOFFSETTO:+0100
TZNAME:BST
DTSTART:20250330T010000
END:DAYLIGHT
BEGIN:STANDARD
TZOFFSETFROM:+0100
TZOFFSETTO:+0000
TZNAME:GMT
DTSTART:20251026T010000
END:STANDARD
BEGIN:DAYLIGHT
TZOFFSETFROM:+0000
TZOFFSETTO:+0100
TZNAME:BST
DTSTART:20260329T010000
END:DAYLIGHT
BEGIN:STANDARD
TZOFFSETFROM:+0100
TZOFFSETTO:+0000
TZNAME:GMT
DTSTART:20261025T010000
END:STANDARD
END:VTIMEZONE
BEGIN:VEVENT
DTSTART;TZID=Europe/London:20251119T100000
DTEND;TZID=Europe/London:20251119T120000
DTSTAMP:20260425T044557
CREATED:20251026T125927Z
LAST-MODIFIED:20251026T125927Z
UID:3371-1763546400-1763553600@www.stoweychurch.com
SUMMARY:CHRISTMAS COFFEE MORNING - 19TH NOVEMBER  - 10AM
DESCRIPTION:We invite you to attend our Christmas coffee morning on Wednesday\, 19th November at 10am-12pm at the church. \nAs well as refreshments and a warm mince pie at a cost of £1\, it is a chance to view the newly conserved Chancel mural and browse some seasonal items we have for sale. \nEveryone is welcome!
URL:https://www.stoweychurch.com/event/christmas-coffee-morning-19th-november-10am/
LOCATION:Stowey Church\, The Street\, Stowey\, Bristol\, BS39 5TH\, United Kingdom
CATEGORIES:Christmas
ATTACH;FMTTYPE=image/jpeg:https://www.stoweychurch.com/wp-content/uploads/2025/10/COFFEE-MORNING-2025.jpg
END:VEVENT
END:VCALENDAR