BEGIN:VCALENDAR
VERSION:2.0
PRODID:-//Stowey Church - ECPv6.15.13//NONSGML v1.0//EN
CALSCALE:GREGORIAN
METHOD:PUBLISH
X-WR-CALNAME:Stowey Church
X-ORIGINAL-URL:https://www.stoweychurch.com
X-WR-CALDESC:Events for Stowey Church
REFRESH-INTERVAL;VALUE=DURATION:PT1H
X-Robots-Tag:noindex
X-PUBLISHED-TTL:PT1H
BEGIN:VTIMEZONE
TZID:Europe/London
BEGIN:DAYLIGHT
TZOFFSETFROM:+0000
TZOFFSETTO:+0100
TZNAME:BST
DTSTART:20230326T010000
END:DAYLIGHT
BEGIN:STANDARD
TZOFFSETFROM:+0100
TZOFFSETTO:+0000
TZNAME:GMT
DTSTART:20231029T010000
END:STANDARD
BEGIN:DAYLIGHT
TZOFFSETFROM:+0000
TZOFFSETTO:+0100
TZNAME:BST
DTSTART:20240331T010000
END:DAYLIGHT
BEGIN:STANDARD
TZOFFSETFROM:+0100
TZOFFSETTO:+0000
TZNAME:GMT
DTSTART:20241027T010000
END:STANDARD
BEGIN:DAYLIGHT
TZOFFSETFROM:+0000
TZOFFSETTO:+0100
TZNAME:BST
DTSTART:20250330T010000
END:DAYLIGHT
BEGIN:STANDARD
TZOFFSETFROM:+0100
TZOFFSETTO:+0000
TZNAME:GMT
DTSTART:20251026T010000
END:STANDARD
BEGIN:DAYLIGHT
TZOFFSETFROM:+0000
TZOFFSETTO:+0100
TZNAME:BST
DTSTART:20260329T010000
END:DAYLIGHT
BEGIN:STANDARD
TZOFFSETFROM:+0100
TZOFFSETTO:+0000
TZNAME:GMT
DTSTART:20261025T010000
END:STANDARD
BEGIN:DAYLIGHT
TZOFFSETFROM:+0000
TZOFFSETTO:+0100
TZNAME:BST
DTSTART:20270328T010000
END:DAYLIGHT
BEGIN:STANDARD
TZOFFSETFROM:+0100
TZOFFSETTO:+0000
TZNAME:GMT
DTSTART:20271031T010000
END:STANDARD
END:VTIMEZONE
BEGIN:VEVENT
DTSTART;TZID=Europe/London:20260123T193000
DTEND;TZID=Europe/London:20260123T233000
DTSTAMP:20260424T183828
CREATED:20251122T153328Z
LAST-MODIFIED:20251122T153513Z
UID:3386-1769196600-1769211000@www.stoweychurch.com
SUMMARY:Burns Night Supper and Dance - Friday\, 23rd January 2026 - 7.30pm for 8pm
DESCRIPTION:The 34th Annual Burns Night Supper and dance will be held in Bishop Sutton Village Hall at 7.30pm. \nIt follows the traditional format with haggis supper (vegetarian option is available but must be prebooked)\, followed by lighthearted speeches\, a traditional piper and finally a ceilidh with an excellent caller. \nThe price will be £35 to include supper and tickets must be booked through Jill Nicol – Email: Jill.broadhead@cpsoutlook.co.uk or 01275 333456. \nWe look forward to seeing you! \n 
URL:https://www.stoweychurch.com/event/burns-night-supper-and-dance-friday-23rd-january-2026-the-7-30pm-for-8/
LOCATION:Bishop Sutton Village Hall\, Wick Road\, Bishop Sutton\, Bristol\, BS39 5XD\, United Kingdom
CATEGORIES:Burns Night
ATTACH;FMTTYPE=image/jpeg:https://www.stoweychurch.com/wp-content/uploads/2025/11/IMG_6390-scaled.jpeg
END:VEVENT
BEGIN:VEVENT
DTSTART;TZID=Europe/London:20250124T193000
DTEND;TZID=Europe/London:20250124T193000
DTSTAMP:20260424T183828
CREATED:20241103T125350Z
LAST-MODIFIED:20241103T125533Z
UID:3012-1737747000-1737747000@www.stoweychurch.com
SUMMARY:32nd Annual Burns Night Supper and Dance - 24th January 2025
DESCRIPTION:The 32nd Annual Burns Night Supper and Dance is to take place on Friday\, 24th January 2025 at 7.30 for 8pm.  This will be held in the Village Hall in Bishop Sutton and tickets cost £35 which includes a traditional 3 course meal.  Tickets will be on a first come\, first served basis and should be booked through Jill or Graham Nicol (contact details on the contacts page of the website)  Cheques should be payable to Stowey Parochial Church Council (Stowey PCC).
URL:https://www.stoweychurch.com/event/32nd-annual-burns-night-supper-and-dance-24th-january-2025/
LOCATION:Bishop Sutton Village Hall\, Wick Road\, Bishop Sutton\, Bristol\, BS39 5XD\, United Kingdom
CATEGORIES:Burns Night
ATTACH;FMTTYPE=image/jpeg:https://www.stoweychurch.com/wp-content/uploads/2024/01/IMG_6391-scaled.jpeg
END:VEVENT
BEGIN:VEVENT
DTSTART;TZID=Europe/London:20240126T193000
DTEND;TZID=Europe/London:20240126T193000
DTSTAMP:20260424T183828
CREATED:20231112T111516Z
LAST-MODIFIED:20240209T103228Z
UID:2703-1706297400-1706297400@www.stoweychurch.com
SUMMARY:31st Annual Burns Night Supper and Dance
DESCRIPTION:We will be holding our Burns Night again after a 3 year absence!  This event is a major fundraiser for our church. \nThis will take place on Friday\, 26th January 2024 at Bishop Sutton Village Hall 7.30pm for 8pm.  Tickets will cost £30 and include a 3 course meal\, with a vegetarian option available.  Please contact Jill Nicol on jill.broadhead@cpsoutlook.co.uk or 01275 333456 if you would like to attend. \nYour support would be very much appreciated.
URL:https://www.stoweychurch.com/event/31st-annual-burns-night-supper-and-dance/
LOCATION:Bishop Sutton Village Hall\, Wick Road\, Bishop Sutton\, Bristol\, BS39 5XD\, United Kingdom
CATEGORIES:Burns Night
ATTACH;FMTTYPE=image/png:https://www.stoweychurch.com/wp-content/uploads/2020/08/burns-night-2020-1.png
END:VEVENT
END:VCALENDAR